BEGIN:VCALENDAR
VERSION:2.0
PRODID:-//White Clay Bicycle Club - ECPv6.15.20//NONSGML v1.0//EN
CALSCALE:GREGORIAN
METHOD:PUBLISH
X-ORIGINAL-URL:https://whiteclaybicycleclub.org
X-WR-CALDESC:Events for White Clay Bicycle Club
REFRESH-INTERVAL;VALUE=DURATION:PT1H
X-Robots-Tag:noindex
X-PUBLISHED-TTL:PT1H
BEGIN:VTIMEZONE
TZID:America/New_York
BEGIN:DAYLIGHT
TZOFFSETFROM:-0500
TZOFFSETTO:-0400
TZNAME:EDT
DTSTART:20230312T070000
END:DAYLIGHT
BEGIN:STANDARD
TZOFFSETFROM:-0400
TZOFFSETTO:-0500
TZNAME:EST
DTSTART:20231105T060000
END:STANDARD
BEGIN:DAYLIGHT
TZOFFSETFROM:-0500
TZOFFSETTO:-0400
TZNAME:EDT
DTSTART:20240310T070000
END:DAYLIGHT
BEGIN:STANDARD
TZOFFSETFROM:-0400
TZOFFSETTO:-0500
TZNAME:EST
DTSTART:20241103T060000
END:STANDARD
BEGIN:DAYLIGHT
TZOFFSETFROM:-0500
TZOFFSETTO:-0400
TZNAME:EDT
DTSTART:20250309T070000
END:DAYLIGHT
BEGIN:STANDARD
TZOFFSETFROM:-0400
TZOFFSETTO:-0500
TZNAME:EST
DTSTART:20251102T060000
END:STANDARD
END:VTIMEZONE
BEGIN:VEVENT
DTSTART;TZID=America/New_York:20240517T120000
DTEND;TZID=America/New_York:20240519T150000
DTSTAMP:20260423T074158
CREATED:20240305T180140Z
LAST-MODIFIED:20240305T180140Z
UID:45511-1715947200-1716130800@whiteclaybicycleclub.org
SUMMARY:Lewisburg Spring Bike Weekend
DESCRIPTION:Meals\, parties\, scenic routes for a wide range of distances\, from 15 to 80+ miles\, group rides with leaders and more. Friday and Saturday nights at the plush Best Western+ of Lewisburg\, with heated indoor pool & gym\,  spacious meeting rooms reserved for our group for the whole weekend.
URL:https://whiteclaybicycleclub.org/out-of-bounds-ride/lewisburg-spring-bike-weekend/
LOCATION:Best Western+ Lewisburg\, 7701 Westbranch Hwy\, Lewisburg\, PA\, 17837\, United States
CATEGORIES:Out of Bounds
ORGANIZER;CN="Linda McGrane":MAILTO:LindaBCPEvents@yahoo.com
END:VEVENT
BEGIN:VEVENT
DTSTART;TZID=America/New_York:20240518T080000
DTEND;TZID=America/New_York:20240518T150000
DTSTAMP:20260423T074158
CREATED:20240222T155437Z
LAST-MODIFIED:20240222T155437Z
UID:45355-1716019200-1716044400@whiteclaybicycleclub.org
SUMMARY:Amy’s Ride/Run/Walk Against Pancreatic Cancer
DESCRIPTION:24 Mile Bike Ride – scenic\, rolling rural route with one covered bridge. \n42 Mile Bike Ride – an extension of the 24 mile ride\, but a little more challenging with an additional covered bridge\, additional covered rest stop and two moderate climbs. \nRun prizes and medals for age categories and King & Queen of the Mountain for winners of the climb on the 42-mile bike ride. \nAfterwards\, stroll a few short blocks to take in the Upper Bucks County “Arts Alive!” festival in downtown historic Quakertown. This juried arts festival runs from 10-4 that day. \n 
URL:https://whiteclaybicycleclub.org/out-of-bounds-ride/amys-ride-run-walk-against-pancreatic-cancer-2/
LOCATION:The Park at 4th\, 301 W. Mill Street\, Quakertown\, PA\, 18951\, United States
CATEGORIES:Out of Bounds
END:VEVENT
BEGIN:VEVENT
DTSTART;TZID=America/New_York:20240518T080000
DTEND;TZID=America/New_York:20240518T150000
DTSTAMP:20260423T074158
CREATED:20240222T160355Z
LAST-MODIFIED:20240222T160420Z
UID:45359-1716019200-1716044400@whiteclaybicycleclub.org
SUMMARY:Eagles Autism Challenge
DESCRIPTION:Philadelphia Eagles fundraiser event for autism research and assistance features a 10-mile ride and 30-mile ride. Fundraising minimum for $300 for 10-miler and $750 for 30-miler.
URL:https://whiteclaybicycleclub.org/out-of-bounds-ride/eagles-autism-challenge-2/
LOCATION:Lincoln Financial Field\, One NovaCare Way\, Philadelphia\, PA\, 19148
CATEGORIES:Out of Bounds
END:VEVENT
BEGIN:VEVENT
DTSTART;TZID=America/New_York:20240518T080000
DTEND;TZID=America/New_York:20240518T150000
DTSTAMP:20260423T074158
CREATED:20240222T162042Z
LAST-MODIFIED:20240224T181126Z
UID:45363-1716019200-1716044400@whiteclaybicycleclub.org
SUMMARY:Tour de South Jersey:  Terra Nonno Ride
DESCRIPTION:This is scenic bike ride through Southern New Jersey to help support a great charity.  The ride will start and end at Terra Nonno Winery.  The route will take you through Deerfield Township and out through Salem County and back.  You will ride through scenic farmland.  After the ride join us at the winery for a complimentary glass of wine and some live music and a food truck.   \nThis will be a semi supported ride.  We will have a marked route with signs and arrows to direct you.  The route will also be available for you to download.  We will also have several aide stations on course.  Limited SAG support will also be available.  \nSwag/Post Ride \n\nComplimentary glass of wine\nFood Truck/Live Music\nT shirt \nCustom Coaster
URL:https://whiteclaybicycleclub.org/out-of-bounds-ride/tour-de-south-jersey-terra-nonno-ride/
LOCATION:Terra Nonno Winery\, 370 Garrison Rd\, Millville\, NJ\, 08322\, United States
CATEGORIES:Out of Bounds
END:VEVENT
BEGIN:VEVENT
DTSTART;TZID=America/New_York:20240518T090000
DTEND;TZID=America/New_York:20240518T170000
DTSTAMP:20260423T074158
CREATED:20240223T143303Z
LAST-MODIFIED:20240224T185201Z
UID:45377-1716022800-1716051600@whiteclaybicycleclub.org
SUMMARY:Starrucca Crossing
DESCRIPTION:Starrucca Crossing is a new event for 2023 from the creators of Lu Lacka Wyco Hundo and the Cross Cut Dirty Metric Century. This is the most remote course we have come up with that takes riders into some of the beauty of the Endless Mountains/Northern Tier of Pennsylvania. We start in the one stoplight town of Fleetville and head right out onto gravel roads through farms\, along creeks\, and up and down valleys. We visit the towns of Montrose\, Hop Bottom\, and Nicholson each with their own unique history. Come check out our 100\, 75\, and 50 mile routes. 
URL:https://whiteclaybicycleclub.org/out-of-bounds-ride/starrucca-crossing/
LOCATION:Fleetwood\, 58 Firehouse Lane\, Fleetwood\, PA\, 18420\, United States
CATEGORIES:Out of Bounds
END:VEVENT
END:VCALENDAR