BEGIN:VCALENDAR
VERSION:2.0
PRODID:-//White Clay Bicycle Club - ECPv6.15.20//NONSGML v1.0//EN
CALSCALE:GREGORIAN
METHOD:PUBLISH
X-ORIGINAL-URL:https://whiteclaybicycleclub.org
X-WR-CALDESC:Events for White Clay Bicycle Club
REFRESH-INTERVAL;VALUE=DURATION:PT1H
X-Robots-Tag:noindex
X-PUBLISHED-TTL:PT1H
BEGIN:VTIMEZONE
TZID:America/New_York
BEGIN:DAYLIGHT
TZOFFSETFROM:-0500
TZOFFSETTO:-0400
TZNAME:EDT
DTSTART:20230312T070000
END:DAYLIGHT
BEGIN:STANDARD
TZOFFSETFROM:-0400
TZOFFSETTO:-0500
TZNAME:EST
DTSTART:20231105T060000
END:STANDARD
BEGIN:DAYLIGHT
TZOFFSETFROM:-0500
TZOFFSETTO:-0400
TZNAME:EDT
DTSTART:20240310T070000
END:DAYLIGHT
BEGIN:STANDARD
TZOFFSETFROM:-0400
TZOFFSETTO:-0500
TZNAME:EST
DTSTART:20241103T060000
END:STANDARD
BEGIN:DAYLIGHT
TZOFFSETFROM:-0500
TZOFFSETTO:-0400
TZNAME:EDT
DTSTART:20250309T070000
END:DAYLIGHT
BEGIN:STANDARD
TZOFFSETFROM:-0400
TZOFFSETTO:-0500
TZNAME:EST
DTSTART:20251102T060000
END:STANDARD
END:VTIMEZONE
BEGIN:VEVENT
DTSTART;TZID=America/New_York:20240601T070000
DTEND;TZID=America/New_York:20240601T150000
DTSTAMP:20260423T062537
CREATED:20240211T204226Z
LAST-MODIFIED:20240211T205427Z
UID:45158-1717225200-1717254000@whiteclaybicycleclub.org
SUMMARY:Gran Fondo Hincapie Lehigh Valley
DESCRIPTION:Here’s your chance to join George Hincapie in Lehigh Valley on his favorite style of ride – The Spring Classics. We’re rolling the short climbs of Flanders\, the smooth dirt sections of Strade Bianche\, and the iconic velodrome finish of Paris-Roubaix all into one epic ride. And of course we’re following it up with our signature Gran Fondo Hincapie Family Festival with beverages and free food at the finish. This will be one ride you won’t forget! \n\n$      0 — Junior (18 & under)\n$    95 — Piccolo Fondo\n$   225 — Medio Fondo\n$   225 — Gran Fondo\n$1\,000 — Deluxe VIP package 
URL:https://whiteclaybicycleclub.org/out-of-bounds-ride/gran-fondo-hincapie-lehigh-valley/
LOCATION:Valley Preferred Cycling Center\, 1151 Mosser Rd\, Breinigsville\, PA\, 18031\, United States
CATEGORIES:Out of Bounds
END:VEVENT
BEGIN:VEVENT
DTSTART;TZID=America/New_York:20240601T080000
DTEND;TZID=America/New_York:20240601T150000
DTSTAMP:20260423T062537
CREATED:20240223T145009Z
LAST-MODIFIED:20240223T145009Z
UID:45382-1717228800-1717254000@whiteclaybicycleclub.org
SUMMARY:GLJ Legacy Ride
DESCRIPTION:Enjoy a morning touring South Jersey’s beautiful Pine Barrens. Our traditional 12\, 30\, & metric century 62 mile routes are back as we carry on the legacy of G. Larry James\, Stockton’s former Dean of Athletics\, 1968 Olympic gold medalist\, and legendary supporter of student success. All ride proceeds benefit the G. Larry James Legacy Fund. \nRide includes: \n\nSeveral rest stops\nGreat scenery\, including a stretch along the Mullica River\nNicely paved roads\nExcellent course signage with a GPS option\nLunch\nCool t-shirt\nLimited road support
URL:https://whiteclaybicycleclub.org/out-of-bounds-ride/glj-legacy-ride/
LOCATION:Stock University Campus Center\, 101 Vera King Farris Dr\, Galloway\, NJ\, 08205\, United States
CATEGORIES:WCBC
END:VEVENT
BEGIN:VEVENT
DTSTART;TZID=America/New_York:20240601T080000
DTEND;TZID=America/New_York:20240601T160000
DTSTAMP:20260423T062537
CREATED:20240222T140255Z
LAST-MODIFIED:20240222T140255Z
UID:45320-1717228800-1717257600@whiteclaybicycleclub.org
SUMMARY:Bikes & Beer Baltimore
DESCRIPTION:10th Annual Bikes & Beers BALTIMORE features a 15\, 30\, and 45-Mile ride departing from GUINNESS OPEN GATE BREWERY and traveling through this beautiful area of Baltimore\, MD. All rides feature morning fuel stations\, fully marked routes\, GPS turn-by-turn instruction\, rest stops\, refreshments\, ride marshals\, and SAG support. Finish back at GUINNESS for a festival of rewarding craft beers\, live music\, a charity raffle & much more! All riding levels welcome! Benefitting our charity partners. 
URL:https://whiteclaybicycleclub.org/out-of-bounds-ride/bikes-beer-baltimore/
LOCATION:Guinness Open Gate Brewery\, 5001 Washington Blvd\, Baltimore\, MD\, 21227\, United States
END:VEVENT
END:VCALENDAR