BEGIN:VCALENDAR
VERSION:2.0
PRODID:-//White Clay Bicycle Club - ECPv6.15.20//NONSGML v1.0//EN
CALSCALE:GREGORIAN
METHOD:PUBLISH
X-ORIGINAL-URL:https://whiteclaybicycleclub.org
X-WR-CALDESC:Events for White Clay Bicycle Club
REFRESH-INTERVAL;VALUE=DURATION:PT1H
X-Robots-Tag:noindex
X-PUBLISHED-TTL:PT1H
BEGIN:VTIMEZONE
TZID:America/New_York
BEGIN:DAYLIGHT
TZOFFSETFROM:-0500
TZOFFSETTO:-0400
TZNAME:EDT
DTSTART:20230312T070000
END:DAYLIGHT
BEGIN:STANDARD
TZOFFSETFROM:-0400
TZOFFSETTO:-0500
TZNAME:EST
DTSTART:20231105T060000
END:STANDARD
BEGIN:DAYLIGHT
TZOFFSETFROM:-0500
TZOFFSETTO:-0400
TZNAME:EDT
DTSTART:20240310T070000
END:DAYLIGHT
BEGIN:STANDARD
TZOFFSETFROM:-0400
TZOFFSETTO:-0500
TZNAME:EST
DTSTART:20241103T060000
END:STANDARD
BEGIN:DAYLIGHT
TZOFFSETFROM:-0500
TZOFFSETTO:-0400
TZNAME:EDT
DTSTART:20250309T070000
END:DAYLIGHT
BEGIN:STANDARD
TZOFFSETFROM:-0400
TZOFFSETTO:-0500
TZNAME:EST
DTSTART:20251102T060000
END:STANDARD
END:VTIMEZONE
BEGIN:VEVENT
DTSTART;TZID=America/New_York:20240915T080000
DTEND;TZID=America/New_York:20240915T160000
DTSTAMP:20260423T153041
CREATED:20240224T175234Z
LAST-MODIFIED:20240224T175234Z
UID:45438-1726387200-1726416000@whiteclaybicycleclub.org
SUMMARY:Breakthrough Challenge
DESCRIPTION:Funds raise benefit Penn Medicine’s Abramson Cancer Center. Ride begins at Daniel Boone Homestead.
URL:https://whiteclaybicycleclub.org/out-of-bounds-ride/breakthrough-challenge/
LOCATION:Daniel Boone Homestead\, 400 Daniel Boone Road\, Birdsboro\, PA\, 19508\, United States
CATEGORIES:Out of Bounds
END:VEVENT
BEGIN:VEVENT
DTSTART;TZID=America/New_York:20240915T080000
DTEND;TZID=America/New_York:20240915T170000
DTSTAMP:20260423T153041
CREATED:20240224T184159Z
LAST-MODIFIED:20240224T184159Z
UID:45457-1726387200-1726419600@whiteclaybicycleclub.org
SUMMARY:Three Creek Century
DESCRIPTION:The event is based at the Penn Township Volunteer Fire Company (VFC) complex at 1750 Pine Road\, Newville\, PA 17241.  Please note that this location is not the Penn Township Supervisors Office on Centerville Rd.  Our event takes place at the Penn Township VFC site on Pine Rd.
URL:https://whiteclaybicycleclub.org/out-of-bounds-ride/three-creek-century-2/
LOCATION:Penn Township Volunteer Fire Company (VFC)\, 1750 Pine Road\, Newville\, PA\, 17241\, United States
CATEGORIES:Out of Bounds
END:VEVENT
END:VCALENDAR