BEGIN:VCALENDAR
VERSION:2.0
PRODID:-//White Clay Bicycle Club - ECPv6.15.20//NONSGML v1.0//EN
CALSCALE:GREGORIAN
METHOD:PUBLISH
X-WR-CALNAME:White Clay Bicycle Club
X-ORIGINAL-URL:https://whiteclaybicycleclub.org
X-WR-CALDESC:Events for White Clay Bicycle Club
REFRESH-INTERVAL;VALUE=DURATION:PT1H
X-Robots-Tag:noindex
X-PUBLISHED-TTL:PT1H
BEGIN:VTIMEZONE
TZID:America/New_York
BEGIN:DAYLIGHT
TZOFFSETFROM:-0500
TZOFFSETTO:-0400
TZNAME:EDT
DTSTART:20240310T070000
END:DAYLIGHT
BEGIN:STANDARD
TZOFFSETFROM:-0400
TZOFFSETTO:-0500
TZNAME:EST
DTSTART:20241103T060000
END:STANDARD
BEGIN:DAYLIGHT
TZOFFSETFROM:-0500
TZOFFSETTO:-0400
TZNAME:EDT
DTSTART:20250309T070000
END:DAYLIGHT
BEGIN:STANDARD
TZOFFSETFROM:-0400
TZOFFSETTO:-0500
TZNAME:EST
DTSTART:20251102T060000
END:STANDARD
BEGIN:DAYLIGHT
TZOFFSETFROM:-0500
TZOFFSETTO:-0400
TZNAME:EDT
DTSTART:20260308T070000
END:DAYLIGHT
BEGIN:STANDARD
TZOFFSETFROM:-0400
TZOFFSETTO:-0500
TZNAME:EST
DTSTART:20261101T060000
END:STANDARD
END:VTIMEZONE
BEGIN:VEVENT
DTSTART;TZID=America/New_York:20250802T010000
DTEND;TZID=America/New_York:20250802T223000
DTSTAMP:20260423T062439
CREATED:20250331T112727Z
LAST-MODIFIED:20250331T112830Z
UID:46688-1754096400-1754173800@whiteclaybicycleclub.org
SUMMARY:The Nightmare Tour
DESCRIPTION:This event is a bicycle tour around the perimeter of Lancaster County\, Pennsylvania. For fans and former participants\, we continue to provide a 177 mile tour in one day with raw climb over 15\,000 ft.  We also have a new 111 m\, a harder 200 m/18\,000 ft. of climb\, a 225 mile/22\,000 feet of raw climb (death by cycling)\, and 24 hr Event.  
URL:https://whiteclaybicycleclub.org/out-of-bounds-ride/the-nightmare-tour-2/
LOCATION:Lancaster County\, PA\, United States
CATEGORIES:Out of Bounds
ORGANIZER;CN="New Holland Bicycle Race LLC":MAILTO:marketing@newhollandbicyclerace.com
END:VEVENT
END:VCALENDAR