BEGIN:VCALENDAR
VERSION:2.0
PRODID:-//White Clay Bicycle Club - ECPv6.15.20//NONSGML v1.0//EN
CALSCALE:GREGORIAN
METHOD:PUBLISH
X-WR-CALNAME:White Clay Bicycle Club
X-ORIGINAL-URL:https://whiteclaybicycleclub.org
X-WR-CALDESC:Events for White Clay Bicycle Club
REFRESH-INTERVAL;VALUE=DURATION:PT1H
X-Robots-Tag:noindex
X-PUBLISHED-TTL:PT1H
BEGIN:VTIMEZONE
TZID:America/New_York
BEGIN:DAYLIGHT
TZOFFSETFROM:-0500
TZOFFSETTO:-0400
TZNAME:EDT
DTSTART:20240310T070000
END:DAYLIGHT
BEGIN:STANDARD
TZOFFSETFROM:-0400
TZOFFSETTO:-0500
TZNAME:EST
DTSTART:20241103T060000
END:STANDARD
BEGIN:DAYLIGHT
TZOFFSETFROM:-0500
TZOFFSETTO:-0400
TZNAME:EDT
DTSTART:20250309T070000
END:DAYLIGHT
BEGIN:STANDARD
TZOFFSETFROM:-0400
TZOFFSETTO:-0500
TZNAME:EST
DTSTART:20251102T060000
END:STANDARD
BEGIN:DAYLIGHT
TZOFFSETFROM:-0500
TZOFFSETTO:-0400
TZNAME:EDT
DTSTART:20260308T070000
END:DAYLIGHT
BEGIN:STANDARD
TZOFFSETFROM:-0400
TZOFFSETTO:-0500
TZNAME:EST
DTSTART:20261101T060000
END:STANDARD
END:VTIMEZONE
BEGIN:VEVENT
DTSTART;TZID=America/New_York:20250920T063000
DTEND;TZID=America/New_York:20250920T163000
DTSTAMP:20260424T093229
CREATED:20250714T001708Z
LAST-MODIFIED:20250714T001708Z
UID:46872-1758349800-1758385800@whiteclaybicycleclub.org
SUMMARY:Bike the Brandywine
DESCRIPTION:Explore the scenery\, glimpse the history\, and discover the lure of the Brandywine.\nComing back for its seventh year in 2025\, Bike the Brandywine is excited to present three scenic loops that take in the beautiful Brandywine Creek Greenway and surrounding countryside. Routes with distances of 25\, 45\, and 62 (Metric Century) miles will be offered\, each with a unique and thrilling experience for both the recreational and more avid seasoned cyclist. 
URL:https://whiteclaybicycleclub.org/out-of-bounds-ride/bike-the-brandywine/
LOCATION:Brandywine Valley\, PA\, United States
CATEGORIES:Out of Bounds
END:VEVENT
END:VCALENDAR