BEGIN:VCALENDAR
VERSION:2.0
PRODID:-//White Clay Bicycle Club - ECPv6.15.20//NONSGML v1.0//EN
CALSCALE:GREGORIAN
METHOD:PUBLISH
X-WR-CALNAME:White Clay Bicycle Club
X-ORIGINAL-URL:https://whiteclaybicycleclub.org
X-WR-CALDESC:Events for White Clay Bicycle Club
REFRESH-INTERVAL;VALUE=DURATION:PT1H
X-Robots-Tag:noindex
X-PUBLISHED-TTL:PT1H
BEGIN:VTIMEZONE
TZID:America/New_York
BEGIN:DAYLIGHT
TZOFFSETFROM:-0500
TZOFFSETTO:-0400
TZNAME:EDT
DTSTART:20230312T070000
END:DAYLIGHT
BEGIN:STANDARD
TZOFFSETFROM:-0400
TZOFFSETTO:-0500
TZNAME:EST
DTSTART:20231105T060000
END:STANDARD
BEGIN:DAYLIGHT
TZOFFSETFROM:-0500
TZOFFSETTO:-0400
TZNAME:EDT
DTSTART:20240310T070000
END:DAYLIGHT
BEGIN:STANDARD
TZOFFSETFROM:-0400
TZOFFSETTO:-0500
TZNAME:EST
DTSTART:20241103T060000
END:STANDARD
BEGIN:DAYLIGHT
TZOFFSETFROM:-0500
TZOFFSETTO:-0400
TZNAME:EDT
DTSTART:20250309T070000
END:DAYLIGHT
BEGIN:STANDARD
TZOFFSETFROM:-0400
TZOFFSETTO:-0500
TZNAME:EST
DTSTART:20251102T060000
END:STANDARD
END:VTIMEZONE
BEGIN:VEVENT
DTSTART;TZID=America/New_York:20240303T150000
DTEND;TZID=America/New_York:20240303T170000
DTSTAMP:20260420T064722
CREATED:20240203T140306Z
LAST-MODIFIED:20240203T140306Z
UID:45117-1709478000-1709485200@whiteclaybicycleclub.org
SUMMARY:Gritty City Main Line
DESCRIPTION:Hone your off-pavement skills\, meet new friends\, and have some fun during the Gritty City Gravel Series. \nPLEASE NOTE THIS RIDE BEGINS AND ENDS AT A REMOTE LOCATION. AFTER THE RIDE\, VISIT THE NEW WAYNE STORE FOR BEVERAGES\, REFRESHMENTS\, AND BRAGGING RIGHTS!  \nThis ride begins and ends at the Delacy Sports Complex in West Chester. We’ll ride about 40 miles on road and mixed terrain. This challenging ride is geared toward riders with fitness and comfort with off-road technical skills. With over 3000 feet of elevation\, it’s designed for riders with solid fitness. \n\n14+mph\, Nosebleed pace\, red wristband\n11-12mph\, Spicy Pace\, blue wristband\n10-11mph: Peppery pace\, Pink wristband\n\nAfter the ride\, head over to our beautiful new Wayne store for beer\, snacks and bragging rights. The new store is located at 530 West Lancaster Avenue\, just west of the old store. \nGravel is lurking everywhere\, so get ready to explore the dirt outside your door and join us for a new route every first Sunday of the month from December – April. \nHelmets are required\, and lights and hydration are recommended.
URL:https://whiteclaybicycleclub.org/out-of-bounds-ride/gritty-city-main-line/
LOCATION:Delacy Sports Complex\, 530 West Lancaster Avenue\,\, West Chester\, PA\, United States
CATEGORIES:Out of Bounds
END:VEVENT
BEGIN:VEVENT
DTSTART;TZID=America/New_York:20240316T083000
DTEND;TZID=America/New_York:20240316T093000
DTSTAMP:20260420T064722
CREATED:20240206T160730Z
LAST-MODIFIED:20240206T162332Z
UID:45125-1710577800-1710581400@whiteclaybicycleclub.org
SUMMARY:Brommie Breakfast Roll
DESCRIPTION:BROMPTON RIDERS! Join us for this 6th (or 7th?) bright and early Brompton ride around historic central Philadelphia. \nWe’ll meet up at the center info booth inside Amtrak 30th St. Station at the dot of 8:30 a.m. for a quick group photo\, then unfold and pedal off at a civilized pace\, fetching up at the PHILLY BIKE EXPO right around opening time. \n And YES\, Brompton Bicycles will be live at the Expo\, ready to answer all your questions in great detail!  \nFREE\, but please note that this is a BROMPTONS-ONLY RIDE. \n(Your local\, canonized Brompton Dealers – Trophy Bikes and Transport Cycles – will be happy to sell you one before the ride!)
URL:https://whiteclaybicycleclub.org/out-of-bounds-ride/brommie-breakfast-roll/
LOCATION:Pennsylvania Convention Center\, 1101 Arch St\, Philadelphia\, PA\, 19107\, United States
CATEGORIES:Out of Bounds
END:VEVENT
BEGIN:VEVENT
DTSTART;TZID=America/New_York:20240316T172900
DTEND;TZID=America/New_York:20240316T193000
DTSTAMP:20260420T064722
CREATED:20240209T230649Z
LAST-MODIFIED:20240209T230649Z
UID:45156-1710610140-1710617400@whiteclaybicycleclub.org
SUMMARY:Cross Checkers Bawl
DESCRIPTION:A SHORT RIDE + TOAST TO THE MOST \nAVERAGING BIKE EVER DESIGNED: \nTHE Surly CROSS CHECK\, 2000-2023 \nThe SURLY Cross Check frame was first offered in 1999\, followed by a complete bike in 2000. \nIt was a sleeper hit from the start. At Trophy Bikes\, we called the Cross Check\, “The FENDER TELECASTER of bikes.” It wasn’t the best/most of anything\, but a Cross Check was pretty good at practically everything. \nParent company QBP said CCs were still selling OK\, but the push to make every bike use disc brakes to stop\, and the success of SURLY’S Straggler (pretty much a disc Cross Check) led to the CROSS CHECK being discontinued in 2023\, the longest run of any SURLY. \nThis ride is Party-Paced\, ends close to the start\, in plenty of time to make your Saturday Night festivities. \nPLEEZ: \nRide your CROSS CHECK if you got one (look at Craigslist!)\, or ride your SURLY of any type. \nOr jeez just ride a steel bike. Carbon fiber bikes may be subject to keying. \nAND ALSO: \nHelmet and lights\, duh. BRING 4 quarters or a dollar bill for the prize pot!
URL:https://whiteclaybicycleclub.org/out-of-bounds-ride/cross-checkers-bawl/
LOCATION:Pennsylvania Convention Center\, 1101 Arch St\, Philadelphia\, PA\, 19107\, United States
CATEGORIES:Out of Bounds
END:VEVENT
BEGIN:VEVENT
DTSTART;TZID=America/New_York:20240324T073000
DTEND;TZID=America/New_York:20240324T160000
DTSTAMP:20260420T064722
CREATED:20240221T153817Z
LAST-MODIFIED:20240221T153817Z
UID:45280-1711265400-1711296000@whiteclaybicycleclub.org
SUMMARY:Hell of Hunterdon
DESCRIPTION:The Hell of Hunterdon is the Mid-Atlantic’s Premier Spring Classic & Mixed Surface Ride; it is the ideal way to open your cycling season.  The courses wind their way through scenic farmland and country towns in New Jersey’s Sourland Region. \n\nWe are offering 3 Official Course Lengths in 2024; the courses have been modified due to the affects of Hurricane Ida (2 bridges on our former route are still out)\n\nThe Long Course is 81 miles with 13 dirt\, gravel\, and hardscrabble sectors (16% of the course).   Total elevation gain is ca 5800 feet (according to RideWithGPS).   This Course has 2 Aid Stations.\nThe Medium Course is 55 Miles long with 8 unpaved sectors (13% of the course).  Total elevation gain is ca 4000 feet (according to RideWithGPS).  This course has 1 Aid Station\nThe Short Course is 31 miles with 4 unpaved sectors (10%) of the course).  Total elevation gain is ca 2000 feet (according to RideWithGPS).  This course does not have any Aid Stations\nAll Courses can be shortened by 5 miles\, which also removes ca 500′ of elevation gain\, by taking the posted short cut.\n\n\n\nThe ride is followed by a Post Ride Celebration that includes hot food\, cold drinks\, and door prizes in a festive indoor/outdoor environment.
URL:https://whiteclaybicycleclub.org/out-of-bounds-ride/hell-of-hunterdon/
LOCATION:Princeton Elks Lodge\, 354 Route 518\, Blawenburg\, NJ\, 08504\, United States
CATEGORIES:Out of Bounds
END:VEVENT
END:VCALENDAR