BEGIN:VCALENDAR
VERSION:2.0
PRODID:-//White Clay Bicycle Club - ECPv6.15.20//NONSGML v1.0//EN
CALSCALE:GREGORIAN
METHOD:PUBLISH
X-WR-CALNAME:White Clay Bicycle Club
X-ORIGINAL-URL:https://whiteclaybicycleclub.org
X-WR-CALDESC:Events for White Clay Bicycle Club
REFRESH-INTERVAL;VALUE=DURATION:PT1H
X-Robots-Tag:noindex
X-PUBLISHED-TTL:PT1H
BEGIN:VTIMEZONE
TZID:America/New_York
BEGIN:DAYLIGHT
TZOFFSETFROM:-0500
TZOFFSETTO:-0400
TZNAME:EDT
DTSTART:20220313T070000
END:DAYLIGHT
BEGIN:STANDARD
TZOFFSETFROM:-0400
TZOFFSETTO:-0500
TZNAME:EST
DTSTART:20221106T060000
END:STANDARD
BEGIN:DAYLIGHT
TZOFFSETFROM:-0500
TZOFFSETTO:-0400
TZNAME:EDT
DTSTART:20230312T070000
END:DAYLIGHT
BEGIN:STANDARD
TZOFFSETFROM:-0400
TZOFFSETTO:-0500
TZNAME:EST
DTSTART:20231105T060000
END:STANDARD
BEGIN:DAYLIGHT
TZOFFSETFROM:-0500
TZOFFSETTO:-0400
TZNAME:EDT
DTSTART:20240310T070000
END:DAYLIGHT
BEGIN:STANDARD
TZOFFSETFROM:-0400
TZOFFSETTO:-0500
TZNAME:EST
DTSTART:20241103T060000
END:STANDARD
END:VTIMEZONE
BEGIN:VEVENT
DTSTART;TZID=America/New_York:20230920T070000
DTEND;TZID=America/New_York:20230920T070000
DTSTAMP:20260420T222453
CREATED:20230614T143044Z
LAST-MODIFIED:20230712T111936Z
UID:7650-1695193200-1695193200@whiteclaybicycleclub.org
SUMMARY:44th Annual Covered Bridge Classic
DESCRIPTION:CHOOSE from one of following distances: 35 mi\, 50 mi\, 65 mi\, 100mi\nSEVEN well-stocked rest stops with varied riding foods\, hydration\, enthusiastic volunteers\, maintenance stations\, and SAG support.\nTRIFECTA OPTION\nYou can register for three great events at one discounted price.\nLODGING Discount at nearby Hampton Inns\nNO day-of registration\nREGISTER here: https://coveredbridgeclassic.com/
URL:https://whiteclaybicycleclub.org/out-of-bounds-ride/44th-annual-covered-bridge-classic/
LOCATION:Lancaster County\, PA\, United States
CATEGORIES:Out of Bounds
END:VEVENT
END:VCALENDAR