BEGIN:VCALENDAR
VERSION:2.0
PRODID:-//White Clay Bicycle Club - ECPv6.15.20//NONSGML v1.0//EN
CALSCALE:GREGORIAN
METHOD:PUBLISH
X-ORIGINAL-URL:https://whiteclaybicycleclub.org
X-WR-CALDESC:Events for White Clay Bicycle Club
REFRESH-INTERVAL;VALUE=DURATION:PT1H
X-Robots-Tag:noindex
X-PUBLISHED-TTL:PT1H
BEGIN:VTIMEZONE
TZID:America/New_York
BEGIN:DAYLIGHT
TZOFFSETFROM:-0500
TZOFFSETTO:-0400
TZNAME:EDT
DTSTART:20220313T070000
END:DAYLIGHT
BEGIN:STANDARD
TZOFFSETFROM:-0400
TZOFFSETTO:-0500
TZNAME:EST
DTSTART:20221106T060000
END:STANDARD
BEGIN:DAYLIGHT
TZOFFSETFROM:-0500
TZOFFSETTO:-0400
TZNAME:EDT
DTSTART:20230312T070000
END:DAYLIGHT
BEGIN:STANDARD
TZOFFSETFROM:-0400
TZOFFSETTO:-0500
TZNAME:EST
DTSTART:20231105T060000
END:STANDARD
BEGIN:DAYLIGHT
TZOFFSETFROM:-0500
TZOFFSETTO:-0400
TZNAME:EDT
DTSTART:20240310T070000
END:DAYLIGHT
BEGIN:STANDARD
TZOFFSETFROM:-0400
TZOFFSETTO:-0500
TZNAME:EST
DTSTART:20241103T060000
END:STANDARD
END:VTIMEZONE
BEGIN:VEVENT
DTSTART;VALUE=DATE:20230923
DTEND;VALUE=DATE:20230924
DTSTAMP:20260423T142905
CREATED:20230614T142105Z
LAST-MODIFIED:20230614T142105Z
UID:7647-1695427200-1695513599@whiteclaybicycleclub.org
SUMMARY:2023 SCU Summer Century
DESCRIPTION:Four beautiful routes in Bucks County\, PA and the scenic horse country of Hunterdon County\, NJ.\n\n33 Miles (+/-)\n50 Miles (+/-)\n64 Mile Metric Century (+/-)\n100 Mile Century (+/-)\n\n\n\n\nPizza party at the finish\n\n\nBaked goods\, drinks and friendly SCU volunteers\nat three well-stocked rest stops\nSAG support\nWell-marked routes\nCue sheets\nOnline route maps and GPX files\nFree parking at the start/finish
URL:https://whiteclaybicycleclub.org/out-of-bounds-ride/2023-scu-summer-century/
LOCATION:Our Lady of Czestochowa Shrine\, 654 Ferry Road\, Doylestown\, PA\, 18901
CATEGORIES:Out of Bounds
END:VEVENT
END:VCALENDAR