BEGIN:VCALENDAR
VERSION:2.0
PRODID:-//White Clay Bicycle Club - ECPv6.15.20//NONSGML v1.0//EN
CALSCALE:GREGORIAN
METHOD:PUBLISH
X-WR-CALNAME:White Clay Bicycle Club
X-ORIGINAL-URL:https://whiteclaybicycleclub.org
X-WR-CALDESC:Events for White Clay Bicycle Club
REFRESH-INTERVAL;VALUE=DURATION:PT1H
X-Robots-Tag:noindex
X-PUBLISHED-TTL:PT1H
BEGIN:VTIMEZONE
TZID:America/New_York
BEGIN:DAYLIGHT
TZOFFSETFROM:-0500
TZOFFSETTO:-0400
TZNAME:EDT
DTSTART:20230312T070000
END:DAYLIGHT
BEGIN:STANDARD
TZOFFSETFROM:-0400
TZOFFSETTO:-0500
TZNAME:EST
DTSTART:20231105T060000
END:STANDARD
BEGIN:DAYLIGHT
TZOFFSETFROM:-0500
TZOFFSETTO:-0400
TZNAME:EDT
DTSTART:20240310T070000
END:DAYLIGHT
BEGIN:STANDARD
TZOFFSETFROM:-0400
TZOFFSETTO:-0500
TZNAME:EST
DTSTART:20241103T060000
END:STANDARD
BEGIN:DAYLIGHT
TZOFFSETFROM:-0500
TZOFFSETTO:-0400
TZNAME:EDT
DTSTART:20250309T070000
END:DAYLIGHT
BEGIN:STANDARD
TZOFFSETFROM:-0400
TZOFFSETTO:-0500
TZNAME:EST
DTSTART:20251102T060000
END:STANDARD
END:VTIMEZONE
BEGIN:VEVENT
DTSTART;TZID=America/New_York:20240426T080000
DTEND;TZID=America/New_York:20240427T170000
DTSTAMP:20260420T100249
CREATED:20240221T160333Z
LAST-MODIFIED:20240221T160333Z
UID:45287-1714118400-1714237200@whiteclaybicycleclub.org
SUMMARY:Ocean to Bay Bike Tour
DESCRIPTION:Join cyclists of all levels in the Quiet Resorts for a cycling tour through Sussex County Delaware’s beautiful beaches\, bays\, and beyond! This year is  special as we celebrate the 35th Coral Anniversary of this beloved ride. This award-winning event\, presented by the Bethany-Fenwick Area Chamber of Commerce\, offers cyclists a 10-mile Coastal Cruise\, 30-\, 50-\, metric century and century ride on flat terrain. Select a combo option to include the 10 mile Coastal Cruise\, benefitting the Delaware Center for the Inland Bays that can be completed at any point during the Bike Tour Weekend.
URL:https://whiteclaybicycleclub.org/out-of-bounds-ride/ocean-to-bay-bike-tour/
LOCATION:Christian Conference Center\, 15 N. Pennsylvania Ave\, Bethany\, DE\, United States
CATEGORIES:Out of Bounds
END:VEVENT
END:VCALENDAR