BEGIN:VCALENDAR
VERSION:2.0
PRODID:-//White Clay Bicycle Club - ECPv6.15.20//NONSGML v1.0//EN
CALSCALE:GREGORIAN
METHOD:PUBLISH
X-WR-CALNAME:White Clay Bicycle Club
X-ORIGINAL-URL:https://whiteclaybicycleclub.org
X-WR-CALDESC:Events for White Clay Bicycle Club
REFRESH-INTERVAL;VALUE=DURATION:PT1H
X-Robots-Tag:noindex
X-PUBLISHED-TTL:PT1H
BEGIN:VTIMEZONE
TZID:America/New_York
BEGIN:DAYLIGHT
TZOFFSETFROM:-0500
TZOFFSETTO:-0400
TZNAME:EDT
DTSTART:20230312T070000
END:DAYLIGHT
BEGIN:STANDARD
TZOFFSETFROM:-0400
TZOFFSETTO:-0500
TZNAME:EST
DTSTART:20231105T060000
END:STANDARD
BEGIN:DAYLIGHT
TZOFFSETFROM:-0500
TZOFFSETTO:-0400
TZNAME:EDT
DTSTART:20240310T070000
END:DAYLIGHT
BEGIN:STANDARD
TZOFFSETFROM:-0400
TZOFFSETTO:-0500
TZNAME:EST
DTSTART:20241103T060000
END:STANDARD
BEGIN:DAYLIGHT
TZOFFSETFROM:-0500
TZOFFSETTO:-0400
TZNAME:EDT
DTSTART:20250309T070000
END:DAYLIGHT
BEGIN:STANDARD
TZOFFSETFROM:-0400
TZOFFSETTO:-0500
TZNAME:EST
DTSTART:20251102T060000
END:STANDARD
END:VTIMEZONE
BEGIN:VEVENT
DTSTART;TZID=America/New_York:20240504T080000
DTEND;TZID=America/New_York:20240504T160000
DTSTAMP:20260420T100256
CREATED:20240222T135529Z
LAST-MODIFIED:20240222T135606Z
UID:45317-1714809600-1714838400@whiteclaybicycleclub.org
SUMMARY:Bikes & Beer Monmouth
DESCRIPTION:Bikes & Beers MONMOUTH COUNTY features a 15\, 30\, and 45-Mile ride departing from BIRDSMOUTH BEER and traveling through the beautiful area of Monmouth County\, NJ. All rides feature morning fuel stations\, fully marked routes\, GPS turn-by-turn instruction\, rest stops\, refreshments\, ride marshals\, and SAG support. Finish back at BIRDSMOUTH BEER for a festival of rewarding craft beers\, live music\, a charity raffle & much more! All riding levels are welcome! Benefitting our charity partners. Have fun and give back!
URL:https://whiteclaybicycleclub.org/out-of-bounds-ride/bikes-beer-monmouth/
LOCATION:Birdsmouth Beer\, 675 Oceanport Way\, Oceanport\, NJ\, 07757\, United States
CATEGORIES:Out of Bounds
END:VEVENT
END:VCALENDAR