BEGIN:VCALENDAR
VERSION:2.0
PRODID:-//White Clay Bicycle Club - ECPv6.15.20//NONSGML v1.0//EN
CALSCALE:GREGORIAN
METHOD:PUBLISH
X-WR-CALNAME:White Clay Bicycle Club
X-ORIGINAL-URL:https://whiteclaybicycleclub.org
X-WR-CALDESC:Events for White Clay Bicycle Club
REFRESH-INTERVAL;VALUE=DURATION:PT1H
X-Robots-Tag:noindex
X-PUBLISHED-TTL:PT1H
BEGIN:VTIMEZONE
TZID:America/New_York
BEGIN:DAYLIGHT
TZOFFSETFROM:-0500
TZOFFSETTO:-0400
TZNAME:EDT
DTSTART:20230312T070000
END:DAYLIGHT
BEGIN:STANDARD
TZOFFSETFROM:-0400
TZOFFSETTO:-0500
TZNAME:EST
DTSTART:20231105T060000
END:STANDARD
BEGIN:DAYLIGHT
TZOFFSETFROM:-0500
TZOFFSETTO:-0400
TZNAME:EDT
DTSTART:20240310T070000
END:DAYLIGHT
BEGIN:STANDARD
TZOFFSETFROM:-0400
TZOFFSETTO:-0500
TZNAME:EST
DTSTART:20241103T060000
END:STANDARD
BEGIN:DAYLIGHT
TZOFFSETFROM:-0500
TZOFFSETTO:-0400
TZNAME:EDT
DTSTART:20250309T070000
END:DAYLIGHT
BEGIN:STANDARD
TZOFFSETFROM:-0400
TZOFFSETTO:-0500
TZNAME:EST
DTSTART:20251102T060000
END:STANDARD
END:VTIMEZONE
BEGIN:VEVENT
DTSTART;TZID=America/New_York:20240511T080000
DTEND;TZID=America/New_York:20240511T150000
DTSTAMP:20260420T131740
CREATED:20240222T154228Z
LAST-MODIFIED:20240222T154228Z
UID:45351-1715414400-1715439600@whiteclaybicycleclub.org
SUMMARY:Cycling for Care
DESCRIPTION:Where: Pemberton\, NJ\, through the farms and low rolling hills of Burlington County. Starting at Budds KnP Farm. \nDistance options: 11\, 20\, 40\, 66\, and 100 miles. (see FAQ below for Ride with GPS route links) \nWhy: To provide access to primary care for the uninsured members of our community.
URL:https://whiteclaybicycleclub.org/out-of-bounds-ride/cycling-for-care/
LOCATION:Buds KnP Farm\, 131 Pemberton Vincentown Rd\, Pembertown\, NJ\, 08068\, United States
CATEGORIES:Out of Bounds
END:VEVENT
END:VCALENDAR