BEGIN:VCALENDAR
VERSION:2.0
PRODID:-//White Clay Bicycle Club - ECPv6.15.20//NONSGML v1.0//EN
CALSCALE:GREGORIAN
METHOD:PUBLISH
X-ORIGINAL-URL:https://whiteclaybicycleclub.org
X-WR-CALDESC:Events for White Clay Bicycle Club
REFRESH-INTERVAL;VALUE=DURATION:PT1H
X-Robots-Tag:noindex
X-PUBLISHED-TTL:PT1H
BEGIN:VTIMEZONE
TZID:America/New_York
BEGIN:DAYLIGHT
TZOFFSETFROM:-0500
TZOFFSETTO:-0400
TZNAME:EDT
DTSTART:20230312T070000
END:DAYLIGHT
BEGIN:STANDARD
TZOFFSETFROM:-0400
TZOFFSETTO:-0500
TZNAME:EST
DTSTART:20231105T060000
END:STANDARD
BEGIN:DAYLIGHT
TZOFFSETFROM:-0500
TZOFFSETTO:-0400
TZNAME:EDT
DTSTART:20240310T070000
END:DAYLIGHT
BEGIN:STANDARD
TZOFFSETFROM:-0400
TZOFFSETTO:-0500
TZNAME:EST
DTSTART:20241103T060000
END:STANDARD
BEGIN:DAYLIGHT
TZOFFSETFROM:-0500
TZOFFSETTO:-0400
TZNAME:EDT
DTSTART:20250309T070000
END:DAYLIGHT
BEGIN:STANDARD
TZOFFSETFROM:-0400
TZOFFSETTO:-0500
TZNAME:EST
DTSTART:20251102T060000
END:STANDARD
END:VTIMEZONE
BEGIN:VEVENT
DTSTART;TZID=America/New_York:20240513T000000
DTEND;TZID=America/New_York:20240513T235959
DTSTAMP:20260420T163219
CREATED:20240127T224758Z
LAST-MODIFIED:20240413T203752Z
UID:45078-1715558400-1715644799@whiteclaybicycleclub.org
SUMMARY:Monkey Hill Time Trial Commuter Challenge
DESCRIPTION:Presented by Event Allies/Wilmington Grand Prix \nFundraiser for Urban Bike Project \n\n\n  \nA three-mile\, rolling course with a series of tight turns through Wilmington’s iconic Brandywine Park. The course concludes with a challenging climb up the Monkey Hill Cobblestones\, first made famous by the Tour DuPont. Don’t worry\, there will be plenty of crowd with cowbells lining the climb to pull you up the hill. Riders complete the course on an accessory-heavy commuter bike.
URL:https://whiteclaybicycleclub.org/out-of-bounds-ride/monkey-hill-time-trial-commuter-challenge/
LOCATION:Monkey Hill\, 801 W. 18th St\, Wilmington\, DE\, United States
CATEGORIES:Out of Bounds
ORGANIZER;CN="Wilmington Grand Prix":MAILTO:jduphily@tsnpub.com
END:VEVENT
END:VCALENDAR