BEGIN:VCALENDAR
VERSION:2.0
PRODID:-//White Clay Bicycle Club - ECPv6.15.20//NONSGML v1.0//EN
CALSCALE:GREGORIAN
METHOD:PUBLISH
X-ORIGINAL-URL:https://whiteclaybicycleclub.org
X-WR-CALDESC:Events for White Clay Bicycle Club
REFRESH-INTERVAL;VALUE=DURATION:PT1H
X-Robots-Tag:noindex
X-PUBLISHED-TTL:PT1H
BEGIN:VTIMEZONE
TZID:America/New_York
BEGIN:DAYLIGHT
TZOFFSETFROM:-0500
TZOFFSETTO:-0400
TZNAME:EDT
DTSTART:20230312T070000
END:DAYLIGHT
BEGIN:STANDARD
TZOFFSETFROM:-0400
TZOFFSETTO:-0500
TZNAME:EST
DTSTART:20231105T060000
END:STANDARD
BEGIN:DAYLIGHT
TZOFFSETFROM:-0500
TZOFFSETTO:-0400
TZNAME:EDT
DTSTART:20240310T070000
END:DAYLIGHT
BEGIN:STANDARD
TZOFFSETFROM:-0400
TZOFFSETTO:-0500
TZNAME:EST
DTSTART:20241103T060000
END:STANDARD
BEGIN:DAYLIGHT
TZOFFSETFROM:-0500
TZOFFSETTO:-0400
TZNAME:EDT
DTSTART:20250309T070000
END:DAYLIGHT
BEGIN:STANDARD
TZOFFSETFROM:-0400
TZOFFSETTO:-0500
TZNAME:EST
DTSTART:20251102T060000
END:STANDARD
END:VTIMEZONE
BEGIN:VEVENT
DTSTART;TZID=America/New_York:20240515T184500
DTEND;TZID=America/New_York:20240515T200000
DTSTAMP:20260420T194817
CREATED:20240413T203353Z
LAST-MODIFIED:20240413T203353Z
UID:45618-1715798700-1715803200@whiteclaybicycleclub.org
SUMMARY:Philadelphia Ride of Silence
DESCRIPTION:This silent ride is to honor cyclists killed/injured in motor vehicle related accidents and to raise awareness about the\nrights of cyclists to ride the roads.Fifteen cyclists have been killed in the Delaware Valley since our last Ride of\nSilence. The ride is being held in Philadelphia for the 20th year in a row and in its 22nd year since its inception. It is\nexpected to be held this year at over 200 U.S. locations and internationally in over 15 countries. Last year\, we had\n450 participants and this year we are hoping to attract at least 500 riders to the event. \nThe 7-mile long route will start at the North side of the Philadelphia City Hall at the intersection of North Broad Street\nand JFK Blvd. A brief pre-ride dedication ceremony will take place at 6:45 PM and the 10 mile per hour ride will start\npromptly at 7:00 P.M. It will circle City Hall\, continue to Independence Hall\, through Center City\, and head over to\nWest Philly via the Walnut St. Bridge. The ride will then end in the front of the Philadelphia Art Museum for the\ntraditional bike lift in silence. The duration of the ride is expected to be 1.0 hour. Helmets and are required and bicycle\nlights are encouraged.
URL:https://whiteclaybicycleclub.org/out-of-bounds-ride/philadelphia-ride-of-silence/
LOCATION:Philadelphia City Hall\, 1400 John F Kennedy Blvd\, Philadelphia\, PA\, 19107\, United States
CATEGORIES:Out of Bounds
ORGANIZER;CN="Bicycle Coaltion of Philadelphia":MAILTO:bike@bicyclecoalition.org
END:VEVENT
END:VCALENDAR