BEGIN:VCALENDAR
VERSION:2.0
PRODID:-//White Clay Bicycle Club - ECPv6.15.20//NONSGML v1.0//EN
CALSCALE:GREGORIAN
METHOD:PUBLISH
X-WR-CALNAME:White Clay Bicycle Club
X-ORIGINAL-URL:https://whiteclaybicycleclub.org
X-WR-CALDESC:Events for White Clay Bicycle Club
REFRESH-INTERVAL;VALUE=DURATION:PT1H
X-Robots-Tag:noindex
X-PUBLISHED-TTL:PT1H
BEGIN:VTIMEZONE
TZID:America/New_York
BEGIN:DAYLIGHT
TZOFFSETFROM:-0500
TZOFFSETTO:-0400
TZNAME:EDT
DTSTART:20220313T070000
END:DAYLIGHT
BEGIN:STANDARD
TZOFFSETFROM:-0400
TZOFFSETTO:-0500
TZNAME:EST
DTSTART:20221106T060000
END:STANDARD
BEGIN:DAYLIGHT
TZOFFSETFROM:-0500
TZOFFSETTO:-0400
TZNAME:EDT
DTSTART:20230312T070000
END:DAYLIGHT
BEGIN:STANDARD
TZOFFSETFROM:-0400
TZOFFSETTO:-0500
TZNAME:EST
DTSTART:20231105T060000
END:STANDARD
BEGIN:DAYLIGHT
TZOFFSETFROM:-0500
TZOFFSETTO:-0400
TZNAME:EDT
DTSTART:20240310T070000
END:DAYLIGHT
BEGIN:STANDARD
TZOFFSETFROM:-0400
TZOFFSETTO:-0500
TZNAME:EST
DTSTART:20241103T060000
END:STANDARD
END:VTIMEZONE
BEGIN:VEVENT
DTSTART;VALUE=DATE:20230805
DTEND;VALUE=DATE:20230806
DTSTAMP:20260425T121809
CREATED:20170403T171048Z
LAST-MODIFIED:20230305T205918Z
UID:3828-1691193600-1691279999@whiteclaybicycleclub.org
SUMMARY:The Nightmare Tour
DESCRIPTION:This ride goes around the perimeter of scenic Lancaster and part of Berks County IN ONE DAY. The ride distances are 111\, 177\, 200\, 225 and 24 hrs. with 8900 to 22\,000 ft. of climb. The mother of them all. A MUST for the serious cyclist. Register at the website more than a week in advance.  \nRegister at the website more than a week in advance.  No day of registration.  \nLocation\nStoudt’s Black Angus Antiques Mart (Clock Tower)\n185 Stoudtburg Rd.\nReinholds\, Pennsylvania 17569 \nStarting times: 12 midnight\, 1:00 AM\, 3:45 AM\, 6:15AM; ENDS 12 Midnight \nWebsite/Registration: TheNightMareTour.com
URL:https://whiteclaybicycleclub.org/out-of-bounds-ride/the-nightmare-tour/
LOCATION:Iron Spire Augus Antiques\, 185 Stoudtsburg Rd.\, Reinholds\, PA\, 17569
ORGANIZER;CN="New Holland Bicycle Race LLC":MAILTO:marketing@newhollandbicyclerace.com
END:VEVENT
BEGIN:VEVENT
DTSTART;VALUE=DATE:20230827
DTEND;VALUE=DATE:20230828
DTSTAMP:20260425T121809
CREATED:20230712T113145Z
LAST-MODIFIED:20230712T113258Z
UID:7758-1693094400-1693180799@whiteclaybicycleclub.org
SUMMARY:47th Brandywine Valley Tour
DESCRIPTION:The Delaware Valley Bicycle Club is pleased to offer our fully supported\, highly acclaimed\, Brandywine Valley Tour featuring covered bridges\, picturesque villages\, and amazing vistas! Enjoy any of seven gorgeous routes with 5+ rest stops serving varied menus including vegan/vegetarian and gluten-free options on request. \nFor the second year we are offering a combined road / gravel course.  This scenic 50 mile ride with 10 miles of unpaved roads is best suited for gravel and cyclocross bikes or other bikes with 32mm or wider tires. \nOur road courses are over low-traffic paved roads through the lush\, rolling Chester County hills known for its thoroughbred horse farms and beautiful landscapes. Our longer routes venture into the horse and buggy farm areas of Lancaster County. Century riders will roll to a rest stop in the aptly named town of Paradise PA. History buffs will love the historic revolutionary war connection of the nearby Brandywine Battlefield Historic Site. Others will be charmed by beautifully shaded roads winding by the area’s many creeks and streams. Just a few miles before your ride’s end\, cyclists on the 50 and 100-mile routes will roll into one of the region’s best “cow-to-cone” ice cream farms for a refreshing\, free ice cream.  \nThis is an all-outdoor event. Social distancing will be encouraged at our lovely rest stops and at the start/finish. Well-spaced pine tree shaded picnic table seating will be available for your dining and relaxing pleasure at the post ride party. \nYour tour fees directly benefit the community! Proceeds after tour expenses are distributed to many community organizations. Past donations have included local trails and parks\, non-profit cycling organizations and community schools and sports organizations.
URL:https://whiteclaybicycleclub.org/out-of-bounds-ride/47th-brandywine-valley-tour/
LOCATION:Brandywine Valley\, PA\, United States
CATEGORIES:Out of Bounds
ORGANIZER;CN="Delaware Valley Bicycle Club":MAILTO:dvbcweb@verizon.net
END:VEVENT
END:VCALENDAR