BEGIN:VCALENDAR
VERSION:2.0
PRODID:-//White Clay Bicycle Club - ECPv6.15.20//NONSGML v1.0//EN
CALSCALE:GREGORIAN
METHOD:PUBLISH
X-WR-CALNAME:White Clay Bicycle Club
X-ORIGINAL-URL:https://whiteclaybicycleclub.org
X-WR-CALDESC:Events for White Clay Bicycle Club
REFRESH-INTERVAL;VALUE=DURATION:PT1H
X-Robots-Tag:noindex
X-PUBLISHED-TTL:PT1H
BEGIN:VTIMEZONE
TZID:America/New_York
BEGIN:DAYLIGHT
TZOFFSETFROM:-0500
TZOFFSETTO:-0400
TZNAME:EDT
DTSTART:20240310T070000
END:DAYLIGHT
BEGIN:STANDARD
TZOFFSETFROM:-0400
TZOFFSETTO:-0500
TZNAME:EST
DTSTART:20241103T060000
END:STANDARD
BEGIN:DAYLIGHT
TZOFFSETFROM:-0500
TZOFFSETTO:-0400
TZNAME:EDT
DTSTART:20250309T070000
END:DAYLIGHT
BEGIN:STANDARD
TZOFFSETFROM:-0400
TZOFFSETTO:-0500
TZNAME:EST
DTSTART:20251102T060000
END:STANDARD
BEGIN:DAYLIGHT
TZOFFSETFROM:-0500
TZOFFSETTO:-0400
TZNAME:EDT
DTSTART:20260308T070000
END:DAYLIGHT
BEGIN:STANDARD
TZOFFSETFROM:-0400
TZOFFSETTO:-0500
TZNAME:EST
DTSTART:20261101T060000
END:STANDARD
END:VTIMEZONE
BEGIN:VEVENT
DTSTART;TZID=America/New_York:20250419T080000
DTEND;TZID=America/New_York:20250419T170000
DTSTAMP:20260425T121812
CREATED:20250304T143529Z
LAST-MODIFIED:20250304T143529Z
UID:46572-1745049600-1745082000@whiteclaybicycleclub.org
SUMMARY:New Holland Bicycle Race & Ride #1
DESCRIPTION:Highlights: 30 & 50+miles ride/race. (2000 – 4300 ft of climb) Bike & Cash prizes.\nScenic Lancaster County\, Pennsylvania. Rolling hills and No traffic.
URL:https://whiteclaybicycleclub.org/out-of-bounds-ride/new-holland-bicycle-race-ride-1/
LOCATION:Community Memorial Park\, 400 Block of East Jackson St.\, New Holland\, PA\, United States
CATEGORIES:Out of Bounds
ORGANIZER;CN="New Holland Bicycle Race LLC":MAILTO:marketing@newhollandbicyclerace.com
END:VEVENT
BEGIN:VEVENT
DTSTART;TZID=America/New_York:20250426T000000
DTEND;TZID=America/New_York:20250427T235959
DTSTAMP:20260425T121812
CREATED:20250131T155701Z
LAST-MODIFIED:20250131T155701Z
UID:46445-1745625600-1745798399@whiteclaybicycleclub.org
SUMMARY:Thomas Stevens Ride
DESCRIPTION:Thomas Stevens was the first man to ride a penny-farthing ( high wheel) bicycle both across the United States and then around the world. Our goal for this year is exceed the 17\,200 miles he rode. With the many bicycle clubs with all types of bicycles across the country that are planning to do this ride\, we should easily meet that goal. Your club or your individual members can choose to ride either day\, alone or together with other members of your club. and any route. Each member that rides would give his total mileage to your club president\, ride master or one other person in the club. Then as an example\, he/she would provide the name of your club with total number of riders\, mileage for each rider and the grand total for your club.
URL:https://whiteclaybicycleclub.org/out-of-bounds-ride/thomas-stevens-ride/
LOCATION:Two Wheelman
CATEGORIES:Out of Bounds
END:VEVENT
BEGIN:VEVENT
DTSTART;TZID=America/New_York:20250426T073000
DTEND;TZID=America/New_York:20250426T160000
DTSTAMP:20260425T121812
CREATED:20250328T104757Z
LAST-MODIFIED:20250328T104757Z
UID:46684-1745652600-1745683200@whiteclaybicycleclub.org
SUMMARY:East Coast Bike Festival
DESCRIPTION:A day-long celebration of the East Coast Bike festival\, finishing on the National treasure of Assateague Island with 3 amazing bike routes to explore Assateague Island and Maryland’s scenic coastal region. All 3 courses are flat and will be well supported\, with all 3 starting and finishing at the iconic Assateague Island.
URL:https://whiteclaybicycleclub.org/out-of-bounds-ride/east-coast-bike-festival/
LOCATION:Assateague Island State Park\, 7303 Stephen Decatur Hwy\, Berlin / Assateague Island\, MD\, 21811\, United States
CATEGORIES:Out of Bounds
END:VEVENT
END:VCALENDAR