BEGIN:VCALENDAR
VERSION:2.0
PRODID:-//White Clay Bicycle Club - ECPv6.15.20//NONSGML v1.0//EN
CALSCALE:GREGORIAN
METHOD:PUBLISH
X-ORIGINAL-URL:https://whiteclaybicycleclub.org
X-WR-CALDESC:Events for White Clay Bicycle Club
REFRESH-INTERVAL;VALUE=DURATION:PT1H
X-Robots-Tag:noindex
X-PUBLISHED-TTL:PT1H
BEGIN:VTIMEZONE
TZID:America/New_York
BEGIN:DAYLIGHT
TZOFFSETFROM:-0500
TZOFFSETTO:-0400
TZNAME:EDT
DTSTART:20240310T070000
END:DAYLIGHT
BEGIN:STANDARD
TZOFFSETFROM:-0400
TZOFFSETTO:-0500
TZNAME:EST
DTSTART:20241103T060000
END:STANDARD
BEGIN:DAYLIGHT
TZOFFSETFROM:-0500
TZOFFSETTO:-0400
TZNAME:EDT
DTSTART:20250309T070000
END:DAYLIGHT
BEGIN:STANDARD
TZOFFSETFROM:-0400
TZOFFSETTO:-0500
TZNAME:EST
DTSTART:20251102T060000
END:STANDARD
BEGIN:DAYLIGHT
TZOFFSETFROM:-0500
TZOFFSETTO:-0400
TZNAME:EDT
DTSTART:20260308T070000
END:DAYLIGHT
BEGIN:STANDARD
TZOFFSETFROM:-0400
TZOFFSETTO:-0500
TZNAME:EST
DTSTART:20261101T060000
END:STANDARD
END:VTIMEZONE
BEGIN:VEVENT
DTSTART;TZID=America/New_York:20250712T080000
DTEND;TZID=America/New_York:20250712T170000
DTSTAMP:20260421T043408
CREATED:20250304T143853Z
LAST-MODIFIED:20250304T143853Z
UID:46574-1752307200-1752339600@whiteclaybicycleclub.org
SUMMARY:New Holland Bicycle Race & Ride #2
DESCRIPTION:Highlights: 30 & 50+miles ride/race. (2000 – 4500 ft of climb) Bike & Cash prizes. Scenic Lancaster County\, Pennsylvania. Rolling hills and No traffic.
URL:https://whiteclaybicycleclub.org/out-of-bounds-ride/new-holland-bicycle-race-ride-2/
LOCATION:Community Memorial Park\, 400 Block of East Jackson St.\, New Holland\, PA\, United States
CATEGORIES:Out of Bounds
ORGANIZER;CN="New Holland Bicycle Race LLC":MAILTO:marketing@newhollandbicyclerace.com
END:VEVENT
END:VCALENDAR